BEGIN:VCALENDAR
VERSION:2.0
PRODID:-//International Social Capital Association (ISCA) - ECPv6.15.20//NONSGML v1.0//EN
CALSCALE:GREGORIAN
METHOD:PUBLISH
X-ORIGINAL-URL:https://www.intsocialcapital.org
X-WR-CALDESC:Events for International Social Capital Association (ISCA)
REFRESH-INTERVAL;VALUE=DURATION:PT1H
X-Robots-Tag:noindex
X-PUBLISHED-TTL:PT1H
BEGIN:VTIMEZONE
TZID:America/Phoenix
BEGIN:STANDARD
TZOFFSETFROM:-0700
TZOFFSETTO:-0700
TZNAME:MST
DTSTART:20210101T000000
END:STANDARD
END:VTIMEZONE
BEGIN:VTIMEZONE
TZID:Europe/Berlin
BEGIN:DAYLIGHT
TZOFFSETFROM:+0100
TZOFFSETTO:+0200
TZNAME:CEST
DTSTART:20210328T010000
END:DAYLIGHT
BEGIN:STANDARD
TZOFFSETFROM:+0200
TZOFFSETTO:+0100
TZNAME:CET
DTSTART:20211031T010000
END:STANDARD
BEGIN:DAYLIGHT
TZOFFSETFROM:+0100
TZOFFSETTO:+0200
TZNAME:CEST
DTSTART:20220327T010000
END:DAYLIGHT
BEGIN:STANDARD
TZOFFSETFROM:+0200
TZOFFSETTO:+0100
TZNAME:CET
DTSTART:20221030T010000
END:STANDARD
BEGIN:DAYLIGHT
TZOFFSETFROM:+0100
TZOFFSETTO:+0200
TZNAME:CEST
DTSTART:20230326T010000
END:DAYLIGHT
BEGIN:STANDARD
TZOFFSETFROM:+0200
TZOFFSETTO:+0100
TZNAME:CET
DTSTART:20231029T010000
END:STANDARD
END:VTIMEZONE
BEGIN:VTIMEZONE
TZID:America/New_York
BEGIN:DAYLIGHT
TZOFFSETFROM:-0500
TZOFFSETTO:-0400
TZNAME:EDT
DTSTART:20210314T070000
END:DAYLIGHT
BEGIN:STANDARD
TZOFFSETFROM:-0400
TZOFFSETTO:-0500
TZNAME:EST
DTSTART:20211107T060000
END:STANDARD
BEGIN:DAYLIGHT
TZOFFSETFROM:-0500
TZOFFSETTO:-0400
TZNAME:EDT
DTSTART:20220313T070000
END:DAYLIGHT
BEGIN:STANDARD
TZOFFSETFROM:-0400
TZOFFSETTO:-0500
TZNAME:EST
DTSTART:20221106T060000
END:STANDARD
BEGIN:DAYLIGHT
TZOFFSETFROM:-0500
TZOFFSETTO:-0400
TZNAME:EDT
DTSTART:20230312T070000
END:DAYLIGHT
BEGIN:STANDARD
TZOFFSETFROM:-0400
TZOFFSETTO:-0500
TZNAME:EST
DTSTART:20231105T060000
END:STANDARD
END:VTIMEZONE
BEGIN:VTIMEZONE
TZID:UTC
BEGIN:STANDARD
TZOFFSETFROM:+0000
TZOFFSETTO:+0000
TZNAME:UTC
DTSTART:20210101T000000
END:STANDARD
END:VTIMEZONE
BEGIN:VEVENT
DTSTART;TZID=America/Phoenix:20220304T130000
DTEND;TZID=America/Phoenix:20220304T143000
DTSTAMP:20260420T125836
CREATED:20210413T204725Z
LAST-MODIFIED:20220701T214813Z
UID:10000121-1646398800-1646404200@www.intsocialcapital.org
SUMMARY:WEBINAR: Elizabeth Castillo: Mobilizing Social Capital through Social Accounting
DESCRIPTION:Invited Speaker\nElizabeth Castillo\nAssistant Professor\, Leadership and Interdisciplinary Studies\nCollege of Integrative Sciences and Arts\nArizona State University \nCertificate of attendance available \n			\n						Certificate of attendance\n					\n		https://www.youtube.com/watch?v=hrlnerdig1E \nThe concept of social capital is widely acknowledged as important\, yet has been slow to gain traction in practice. This session introduces social accounting as a strategy to make social capital more visible\, appreciated\, and actionable to leaders\, policymakers\, ESG investors\, and managers. Examples from firms around the world will show how tools such as Integrated Reporting encourage the intentional\, systematic development of social capital for organizational success. Participants will also learn integrated thinking as key to developing and implementing social capital strategically across multiple scales to advance the SDGs\, as well as systems thinking and complexity science to create business models rooted in reciprocity rather than value extraction. The session concludes with a future research agenda and resources to put these ideas into practice. \nTime converter at worldtimebuddy.com \n \nTime converter at worldtimebuddy.com \nAbout the presenter:\nElizabeth Castillo is an assistant professor of organizational leadership in the College of Integrative Sciences and Arts. Her research explores prosocial organizing and resource exchange to create an economy that works for everyone. She is a 2020 recipient of the Aspen Institute’s Ideas Worth Teaching award\, a global prize for innovation that transforms business education. Her scholarship is informed by ecological and evolutionary principles like mutualism\, energy flows across food webs\, and cultural evolution\, with the goal of developing theories\, practices\, and policies that promote equity\, inclusion\, antifragility\, and open-endedness in organizations and society. \nShe is secretary of the International Humanistic Management Association’s U.S. chapter and a member of the leadership team of the Integrated Reporting U.S. community. She serves on the economic justice advisory committee of the Nonprofit Quarterly and is active in the United Nations’ Principles for Responsible Management Education (PRME) initiative. Castillo’s research is inspired by two decades of management experience at the San Diego Natural History Museum and Balboa Park Cultural Partnership. Her work is published in academic journals like The Leadership Quarterly and professional publications such as Nonprofit Quarterly. She is an avid hiker and nature photographer. Her mission is to repair the world through scholarship that promotes thriving organizations\, fulfilled people\, connected communities\, and a world we can be proud to pass on to our children. \n \nAbout Our Webinar Series\nThis event is part of our regular webinar sessions for social capital researchers including PhD/master students. These sessions include invited presentations from prominent scholars as well as presentations by PhD students and experts in professional practice.\nFor social capital researchers\, these sessions are an opportunity to hear about the latest social capital research and insights from scholars working on the concept. They can be a great way to connect with people\, to get advice\, discuss ideas or issues\, get suggestions for literature to read\, or you can just listen. \nAre you researching social capital and want to present your research? Click here for more information and to submit a proposal. \nGenerally\, presentations can be 20 to 30 mins. The content of your presentation will depend on your research stage.
URL:https://www.intsocialcapital.org/event/webinar-elizabeth-castillo/
ATTACH;FMTTYPE=:
END:VEVENT
BEGIN:VEVENT
DTSTART;TZID=Europe/Berlin:20220311T200000
DTEND;TZID=Europe/Berlin:20220311T213000
DTSTAMP:20260420T125836
CREATED:20210413T204725Z
LAST-MODIFIED:20220609T222721Z
UID:10000189-1647028800-1647034200@www.intsocialcapital.org
SUMMARY:WEBINAR: Prof. Matías Membiela-Pollán: Clarifying the concept of social capital through its three perspectives: individualistic\, communitarian and macrosocial
DESCRIPTION:Invited Speaker\nProfessor Matías Membiela Pollán\nDepartamento de Empresa \nÁrea de Comercialización e Investigación de Mercados\nUniversidade da Coruña \nCertificate of attendance available \n			\n						Certificate of attendance\n					\n		https://www.youtube.com/watch?v=7iJIe5YFU0w \nThis presentation will propose a synthesis of social capital in three perspectives (individualistic\, communitarian and macrosocial). The objective is to clearly expose what social capital is and what it is capable of doing through its different functionalities. \nTime converter at worldtimebuddy.com \nAbout the presenter:\nMatías Membiela-Pollán has a PhD in Applied Economics from the University of La Coruña (Spain). Specialist in International Marketing from the Polytechnic University of Madrid. Professor in the Business Department of the University of La Coruña. Member of SASE (The Society for the Advancement of Socio-Economics); and of OSIM (Social Organizations\, Institutions and Markets) and iMARKA (Applied Marketing Research Group). His research lines are linked to socio-economics and marketing having published articles in various international journals\, and books on the different roles of author\, co-author\, coordinator and editor. Specifically\, he is a specialist in Social Capital\, and has written the books Social Capital: Glossary. The economic value of the social dimension and The theory of social capital. He is also the director of the website on social capital: www.capitalsocial.org \nAbout Our Webinar Series\nThis event is part of our regular webinar sessions for social capital researchers including PhD/master students. These sessions include invited presentations from prominent scholars as well as presentations by PhD students and experts in professional practice.\nFor social capital researchers\, these sessions are an opportunity to hear about the latest social capital research and insights from scholars working on the concept. They can be a great way to connect with people\, to get advice\, discuss ideas or issues\, get suggestions for literature to read\, or you can just listen. \nAre you researching social capital and want to present your research? Click here for more information and to submit a proposal. \nGenerally\, presentations can be 20 to 30 mins. The content of your presentation will depend on your research stage.
URL:https://www.intsocialcapital.org/event/webinar-prof-matias-membiela-pollan/
ATTACH;FMTTYPE=:
END:VEVENT
BEGIN:VEVENT
DTSTART;TZID=America/New_York:20220318T150000
DTEND;TZID=America/New_York:20220318T163000
DTSTAMP:20260420T125836
CREATED:20210413T204725Z
LAST-MODIFIED:20220701T214356Z
UID:10000180-1647615600-1647621000@www.intsocialcapital.org
SUMMARY:WEBINAR: Dr. Sabita Ramlal: The role of social capital in higher education access
DESCRIPTION:Invited Speaker\nDr Sabita Ramlal\nPhD from York University\, Toronto \nCertificate of attendance available \n			\n						Certificate of attendance\n					\n		https://www.youtube.com/watch?v=WEQL99Ubr10 \nThe seminar will look at the role of social capital in education access and success – K12 and higher education using a Bordieuan understanding of the role of the education system in reproducing social inequality. The seminar will explore how the concept of social capital as a non-financial factor can help us to understand higher education access for people from ‘marginalised’ or ‘disadvantaged groups’ and what policy implications arise from these understandings. The presentation will look at previous research\, as well as a case study in a developing country context in the Caribbean. In addition\, the possibilities and limitations to extend the concept of social capital in a plural\, postcolonial society will be discussed.  \nTime converter at worldtimebuddy.com \nAbout the presenter:\nDr. Sabita Ramlal is a Researcher and Consultant in the areas of labour markets\, post-secondary education\, labour market training\, and EDI. She has worked with NGOs\, government and the post-secondary education sector in the Caribbean and Canada. She conducts research in policy and program interventions in post-secondary education and labour markets to assist people at the margins of society. Dr. Ramlal is Senior Researcher and Project Manager – Prism Economics and Analysis. \nAbout Our Webinar Series\nThis event is part of our regular webinar sessions for social capital researchers including PhD/master students. These sessions include invited presentations from prominent scholars as well as presentations by PhD students and experts in professional practice.\nFor social capital researchers\, these sessions are an opportunity to hear about the latest social capital research and insights from scholars working on the concept. They can be a great way to connect with people\, to get advice\, discuss ideas or issues\, get suggestions for literature to read\, or you can just listen. \nAre you researching social capital and want to present your research? Click here for more information and to submit a proposal. \nGenerally\, presentations can be 20 to 30 mins. The content of your presentation will depend on your research stage.
URL:https://www.intsocialcapital.org/event/webinar-sabita-ramlal-the-role-of-social-capital-in-higher-education-access/
ATTACH;FMTTYPE=:
END:VEVENT
BEGIN:VEVENT
DTSTART;TZID=UTC:20220325T200000
DTEND;TZID=UTC:20220325T213000
DTSTAMP:20260420T125836
CREATED:20210413T204725Z
LAST-MODIFIED:20220701T214103Z
UID:10000184-1648238400-1648243800@www.intsocialcapital.org
SUMMARY:Discussion and Q&A Session on Social Capital - March 2022
DESCRIPTION:How the Session Will Work\nThe session will be based around questions submitted by participants and will include general discussions of social capital and related concepts. The session will focus on the theoretical and practical application of the concept including its use in research. \nSubmit the question you want answered or the issue you would like discussed when you register for the session below. \nThese sessions are a supportive way to connect with people. You can ask questions\, get advice\, discuss ideas or issues\, get suggestions for literature to read\, or you can just listen. This session is an opportunity to share your experience and expertise with others. It’s a great way to take part in discourse related to social capital and find opportunities for mutual learning and the potential for collaboration. \nAbout the facilitator:Tristan Claridge has been researching social capital for over 20 years. He has explored the theoretical foundations of the concept and much of his work aims to bring conceptual and theoretical clarification. \n 
URL:https://www.intsocialcapital.org/event/qa-session-march-2022/
CATEGORIES:Q&A
ATTACH;FMTTYPE=:
END:VEVENT
END:VCALENDAR